BEGIN:VCALENDAR
VERSION:2.0
PRODID:-//ChamberMaster//Event Calendar 2.0//EN
METHOD:PUBLISH
X-PUBLISHED-TTL:P3D
REFRESH-INTERVAL:P3D
CALSCALE:GREGORIAN
BEGIN:VEVENT
DTSTART:20191119T230000Z
DTEND:20191120T020000Z
X-MICROSOFT-CDO-ALLDAYEVENT:FALSE
SUMMARY:Networking Mixer at Spuntino Wine Bar & Italian Tapas
DESCRIPTION:Join the New Jersey LGBT Chamber of Commerce at Spuntino Wine Bar in Clifton\, NJ! Come enjoy a fabulous wine selection and Italian tapas at this upscale bar and restaurant with over 350 world-class wines available by the bottle and more than 60 wines by the glass!\n\n \nThe Chamber's Board of Directors will be there to facilitate introductions and discuss the benefits of becoming a Chamber Member and LGBT Business Owner Certification. \n\n \n\nBring your business cards to pass around and remember to give one to a Chamber Board Member   we'll be raffling off a free one-year membership!
X-ALT-DESC;FMTTYPE=text/html:<span style="font-size:16px\;"><span style="font-family:arial\;"><span style="color: rgb(0\, 0\, 0)\; line-height: 21px\;">Join the New Jersey LGBT Chamber of Commerce at Spuntino Wine Bar in Clifton\, NJ!&nbsp\;</span><span style="color: rgb(76\, 76\, 76)\; text-align: center\; white-space: pre-wrap\;">Come enjoy a fabulous wine selection and Italian tapas at this upscale bar and restaurant with over 350 world-class wines available by the bottle and more than 60 wines by the glass!</span></span></span><br />\n&nbsp\;\n<div style="color: rgb(54\, 73\, 95)\; font-family: Arial\, Verdana\, Helvetica\, sans-serif\; font-size: 14px\; white-space: pre-wrap\; text-align: center\;"><span style="font-size: 16px\; color: rgb(34\, 35\, 39)\; font-family: &quot\;Trebuchet MS&quot\;\, Verdana\, Helvetica\, sans-serif\;">The Chamber&#39\;s Board of Directors will be there to facilitate introductions and discuss the benefits of becoming a Chamber Member&nbsp\;and </span><a href="http://www.njlgbtchamber.org/lgbt-business-certification" style="color: rgb(158\, 28\, 16)\; font-weight: bold\; font-size: 16px\; font-family: &quot\;Trebuchet MS&quot\;\, Verdana\, Helvetica\, sans-serif\;" target="_blank">LGBT Business Owner Certification</a><span style="font-size: 16px\; color: rgb(235\, 56\, 80)\; font-family: &quot\;Trebuchet MS&quot\;\, Verdana\, Helvetica\, sans-serif\;">.</span><span style="font-size: 16px\; color: rgb(235\, 101\, 56)\; font-family: &quot\;Trebuchet MS&quot\;\, Verdana\, Helvetica\, sans-serif\;">&nbsp\;</span></div>\n\n<div style="color: rgb(54\, 73\, 95)\; font-family: Arial\, Verdana\, Helvetica\, sans-serif\; font-size: 14px\; white-space: pre-wrap\; text-align: center\;">&nbsp\;</div>\n\n<div style="color: rgb(54\, 73\, 95)\; font-family: Arial\, Verdana\, Helvetica\, sans-serif\; font-size: 14px\; white-space: pre-wrap\; text-align: center\;"><span style="font-size: 16px\; color: rgb(0\, 0\, 0)\; font-family: &quot\;Trebuchet MS&quot\;\, Verdana\, Helvetica\, sans-serif\;">Bring your business cards to pass around and remember to give one to a&nbsp\;</span><a href="http://www.njlgbtchamber.org/board-of-directors" style="color: rgb(158\, 28\, 16)\; font-weight: bold\; font-size: 16px\; font-family: &quot\;Trebuchet MS&quot\;\, Verdana\, Helvetica\, sans-serif\;" target="_blank">Chamber Board Member</a><span style="font-size: 16px\; color: rgb(235\, 76\, 57)\; font-weight: bold\; font-family: &quot\;Trebuchet MS&quot\;\, Verdana\, Helvetica\, sans-serif\;">&nbsp\;</span><span style="font-size: 16px\; color: rgb(0\, 0\, 0)\; font-family: &quot\;Trebuchet MS&quot\;\, Verdana\, Helvetica\, sans-serif\;">&ndash\; we&#39\;ll be raffling off a free one-year membership!</span></div>\n
LOCATION:Address: 70 Kingsland Rd\, Clifton\, NJ 07014
UID:e.2131.272
SEQUENCE:3
DTSTAMP:20211018T224918Z
URL:https://www.njlgbtchamber.org/events/details/networking-mixer-at-spuntino-wine-bar-italian-tapas-272
END:VEVENT

END:VCALENDAR
