BEGIN:VCALENDAR
VERSION:2.0
PRODID:-//ChamberMaster//Event Calendar 2.0//EN
METHOD:PUBLISH
X-PUBLISHED-TTL:P3D
REFRESH-INTERVAL:P3D
CALSCALE:GREGORIAN
BEGIN:VEVENT
DTSTART:20190828T220000Z
DTEND:20190829T010000Z
X-MICROSOFT-CDO-ALLDAYEVENT:FALSE
SUMMARY:Rooftop Networking with HRC and Walmart Pride ERG at Porta in Jersey City\, NJ!
DESCRIPTION:The NJ LGBT Chamber in partnership with the nation's largest LGBT civil rights organization\, Human Rights Campaign\, and Walmart's PRIDE Employee Resource Group\, is proud to sponsor a mixer at Porta in Jersey City\, New Jersey.\n\n\n\nJoin us for an evening of amazing drinks\, food\, and networking. Come Enjoy this Vibrant Rooftop Atmosphere Recognized as One of the Best Late-Night Spots in the Country!\n\n\n\nThe Chamber's Board of Directors will be there to facilitate introductions and discuss the benefits of becoming a Chamber Member and LGBT Business Owner Certification. Bring your business cards to pass around and remember to give one to a Chamber Board Member   we'll be raffling off a free one-year membership!\n\n\n\nHRC will have representatives from New Jersey in attendance at the event to provide information on LGBTQ issues\, as well as information on how to get involved.
X-ALT-DESC;FMTTYPE=text/html:<span style="color: rgb(33\, 33\, 33)\; font-family: &quot\;Graphik Meetup&quot\;\, -apple-system\, BlinkMacSystemFont\, Roboto\, Helvetica\, Arial\, sans-serif\; font-size: 16px\; background-color: rgb(246\, 247\, 248)\;">The NJ LGBT Chamber in partnership with the nation&#39\;s largest LGBT civil rights organization\, Human Rights Campaign\, and Walmart&#39\;s PRIDE Employee Resource Group\, is proud to sponsor a mixer at Porta in Jersey City\, New Jersey.</span><br style="color: rgb(33\, 33\, 33)\; font-family: &quot\;Graphik Meetup&quot\;\, -apple-system\, BlinkMacSystemFont\, Roboto\, Helvetica\, Arial\, sans-serif\; font-size: 16px\; background-color: rgb(246\, 247\, 248)\;" />\n<br style="color: rgb(33\, 33\, 33)\; font-family: &quot\;Graphik Meetup&quot\;\, -apple-system\, BlinkMacSystemFont\, Roboto\, Helvetica\, Arial\, sans-serif\; font-size: 16px\; background-color: rgb(246\, 247\, 248)\;" />\n<span style="color: rgb(33\, 33\, 33)\; font-family: &quot\;Graphik Meetup&quot\;\, -apple-system\, BlinkMacSystemFont\, Roboto\, Helvetica\, Arial\, sans-serif\; font-size: 16px\; background-color: rgb(246\, 247\, 248)\;">Join us for an evening of amazing drinks\, food\, and networking. Come Enjoy this Vibrant Rooftop Atmosphere Recognized as One of the Best Late-Night Spots in the Country!</span><br style="color: rgb(33\, 33\, 33)\; font-family: &quot\;Graphik Meetup&quot\;\, -apple-system\, BlinkMacSystemFont\, Roboto\, Helvetica\, Arial\, sans-serif\; font-size: 16px\; background-color: rgb(246\, 247\, 248)\;" />\n<br style="color: rgb(33\, 33\, 33)\; font-family: &quot\;Graphik Meetup&quot\;\, -apple-system\, BlinkMacSystemFont\, Roboto\, Helvetica\, Arial\, sans-serif\; font-size: 16px\; background-color: rgb(246\, 247\, 248)\;" />\n<span style="color: rgb(33\, 33\, 33)\; font-family: &quot\;Graphik Meetup&quot\;\, -apple-system\, BlinkMacSystemFont\, Roboto\, Helvetica\, Arial\, sans-serif\; font-size: 16px\; background-color: rgb(246\, 247\, 248)\;">The Chamber&#39\;s Board of Directors will be there to facilitate introductions and discuss the benefits of becoming a Chamber Member and LGBT Business Owner Certification. Bring your business cards to pass around and remember to give one to a Chamber Board Member &ndash\; we&#39\;ll be raffling off a free one-year membership!</span><br style="color: rgb(33\, 33\, 33)\; font-family: &quot\;Graphik Meetup&quot\;\, -apple-system\, BlinkMacSystemFont\, Roboto\, Helvetica\, Arial\, sans-serif\; font-size: 16px\; background-color: rgb(246\, 247\, 248)\;" />\n<br style="color: rgb(33\, 33\, 33)\; font-family: &quot\;Graphik Meetup&quot\;\, -apple-system\, BlinkMacSystemFont\, Roboto\, Helvetica\, Arial\, sans-serif\; font-size: 16px\; background-color: rgb(246\, 247\, 248)\;" />\n<span style="color: rgb(33\, 33\, 33)\; font-family: &quot\;Graphik Meetup&quot\;\, -apple-system\, BlinkMacSystemFont\, Roboto\, Helvetica\, Arial\, sans-serif\; font-size: 16px\; background-color: rgb(246\, 247\, 248)\;">HRC will have representatives from New Jersey in attendance at the event to provide information on LGBTQ issues\, as well as information on how to get involved.</span><br style="color: rgb(33\, 33\, 33)\; font-family: &quot\;Graphik Meetup&quot\;\, -apple-system\, BlinkMacSystemFont\, Roboto\, Helvetica\, Arial\, sans-serif\; font-size: 16px\; background-color: rgb(246\, 247\, 248)\;" />\n<br style="color: rgb(33\, 33\, 33)\; font-family: &quot\;Graphik Meetup&quot\;\, -apple-system\, BlinkMacSystemFont\, Roboto\, Helvetica\, Arial\, sans-serif\; font-size: 16px\; background-color: rgb(246\, 247\, 248)\;" />\n&nbsp\;
LOCATION:Venue: Porta\, Jersey City Address: 135 Newark Ave\, Jersey City\, NJ 07302 Parking: Metered Street Parking Available In Walking Distance of Venue
UID:e.2131.256
SEQUENCE:3
DTSTAMP:20200813T062015Z
URL:https://www.njlgbtchamber.org/events/details/rooftop-networking-with-hrc-and-walmart-pride-erg-at-porta-in-jersey-city-nj-256
END:VEVENT

END:VCALENDAR
