BEGIN:VCALENDAR
VERSION:2.0
PRODID:-//ChamberMaster//Event Calendar 2.0//EN
METHOD:PUBLISH
X-PUBLISHED-TTL:P3D
REFRESH-INTERVAL:P3D
CALSCALE:GREGORIAN
BEGIN:VEVENT
DTSTART:20191024T220000Z
DTEND:20191025T010000Z
X-MICROSOFT-CDO-ALLDAYEVENT:FALSE
SUMMARY:Networking Mixer at Ghost Hawk Brewing Co.
DESCRIPTION:Join the New Jersey LGBT Chamber in partnership with the Lodi Chamber\, Nutley Chamber\, and North Jersey Chamber of Commerce for an amazing evening of networking at Ghost Hawk Brewing Co. Enjoy Passaic County's first craft brewery and be sure to grab some food from Pag's Food Truck!\n\n\n\nThe Chamber's Board of Directors will be there to facilitate introductions and discuss the benefits of becoming a Chamber Member and LGBT Business Owner Certification.\n\n\n\nBring your business cards to pass around and remember to give one to a Chamber Board Member   we'll be raffling off a free one-year membership!
X-ALT-DESC;FMTTYPE=text/html:<span style="color: rgb(51\, 51\, 51)\; font-family: Oxygen\, sans-serif\; font-size: 16px\; background-color: rgb(255\, 255\, 255)\;">Join the New Jersey LGBT Chamber in partnership with the Lodi Chamber\, Nutley Chamber\, and North Jersey Chamber of Commerce for an amazing evening of networking at Ghost Hawk Brewing Co. Enjoy Passaic County&#39\;s first craft brewery and&nbsp\;be sure to grab some food from Pag&#39\;s Food Truck!</span><br style="color: rgb(29\, 33\, 41)\; font-family: Helvetica\, Arial\, sans-serif\; font-size: 14px\; white-space: pre-wrap\;" />\n<br style="color: rgb(29\, 33\, 41)\; font-family: Helvetica\, Arial\, sans-serif\; font-size: 14px\; white-space: pre-wrap\;" />\n<span style="color: rgb(29\, 33\, 41)\; font-family: Helvetica\, Arial\, sans-serif\; font-size: 14px\; white-space: pre-wrap\;">The Chamber&#39\;s Board of Directors will be there to facilitate introductions and discuss the benefits of becoming a Chamber Member and LGBT Business Owner Certification.</span><br style="color: rgb(29\, 33\, 41)\; font-family: Helvetica\, Arial\, sans-serif\; font-size: 14px\; white-space: pre-wrap\;" />\n<br style="color: rgb(29\, 33\, 41)\; font-family: Helvetica\, Arial\, sans-serif\; font-size: 14px\; white-space: pre-wrap\;" />\n<span style="color: rgb(29\, 33\, 41)\; font-family: Helvetica\, Arial\, sans-serif\; font-size: 14px\; white-space: pre-wrap\;">Bring your business cards to pass around and remember to give one to a Chamber Board Member &ndash\; we&#39\;ll be raffling off a free one-year membership!</span>
LOCATION:Venue: Ghost Hawk Brewing Co. Address: 321 River Road\, Unit 6\, Clifton\, NJ
UID:e.2131.267
SEQUENCE:3
DTSTAMP:20191213T013706Z
URL:https://www.njlgbtchamber.org/events/details/networking-mixer-at-ghost-hawk-brewing-co-267
END:VEVENT

END:VCALENDAR
